BEGIN:VCALENDAR
VERSION:2.0
PRODID:-//Once Upon A Time Toys - ECPv6.15.17//NONSGML v1.0//EN
CALSCALE:GREGORIAN
METHOD:PUBLISH
X-ORIGINAL-URL:https://www.stowetoys.com
X-WR-CALDESC:Events for Once Upon A Time Toys
REFRESH-INTERVAL;VALUE=DURATION:PT1H
X-Robots-Tag:noindex
X-PUBLISHED-TTL:PT1H
BEGIN:VTIMEZONE
TZID:America/New_York
BEGIN:DAYLIGHT
TZOFFSETFROM:-0500
TZOFFSETTO:-0400
TZNAME:EDT
DTSTART:20220313T070000
END:DAYLIGHT
BEGIN:STANDARD
TZOFFSETFROM:-0400
TZOFFSETTO:-0500
TZNAME:EST
DTSTART:20221106T060000
END:STANDARD
BEGIN:DAYLIGHT
TZOFFSETFROM:-0500
TZOFFSETTO:-0400
TZNAME:EDT
DTSTART:20230312T070000
END:DAYLIGHT
BEGIN:STANDARD
TZOFFSETFROM:-0400
TZOFFSETTO:-0500
TZNAME:EST
DTSTART:20231105T060000
END:STANDARD
BEGIN:DAYLIGHT
TZOFFSETFROM:-0500
TZOFFSETTO:-0400
TZNAME:EDT
DTSTART:20240310T070000
END:DAYLIGHT
BEGIN:STANDARD
TZOFFSETFROM:-0400
TZOFFSETTO:-0500
TZNAME:EST
DTSTART:20241103T060000
END:STANDARD
END:VTIMEZONE
BEGIN:VEVENT
DTSTART;TZID=America/New_York:20230211T103000
DTEND;TZID=America/New_York:20230211T143000
DTSTAMP:20260423T135741
CREATED:20230128T195700Z
LAST-MODIFIED:20230201T222848Z
UID:2243-1676111400-1676125800@www.stowetoys.com
SUMMARY:Valentines Day is Sweeter at the Toy Store
DESCRIPTION:Come to Once Upon a Time Toys and decorate your own Valentines  cookie! Add frosting and sprinkles and even eyeballs to make your cookie delightful and extra yummy! \nTry your luck guessing the number of items in the Valentines jar. If you guess right\, the jar of goodies is yours! \nWhile there\, mom and dad can wander up to our new Loft on the 2nd floor of the toy store. Once there you will  see  exquisite gifts for that special person in  your life. You’ll find wood bowls\, shimmery glass lamps\, ceramic sculpture\, jewelry and other wonders to the sight and touch. Many of these have been featured in the White House collection of permanent crafts! 20% off all gifts in The Loft during the month of February.
URL:https://www.stowetoys.com/event/valentines-day-is-sweeter-at-the-toy-store/
LOCATION:Once Upon A Time Toys\, 57 Mountain Rd.\, Stowe\, VT\, 05672\, United States
END:VEVENT
BEGIN:VEVENT
DTSTART;TZID=America/New_York:20230212T103000
DTEND;TZID=America/New_York:20230212T143000
DTSTAMP:20260423T135741
CREATED:20230201T223330Z
LAST-MODIFIED:20230201T223330Z
UID:2653-1676197800-1676212200@www.stowetoys.com
SUMMARY:Valentine's Day is Sweeter at the Toy Store
DESCRIPTION:Come to Once Upon a Time Toys and decorate your own Valentine’s  cookie! Add frosting and sprinkles and even eyeballs to make your cookie delightful and extra yummy! \nTry your luck guessing the number of items in the Valentine’s jar. If you guess right\, the jar of goodies is yours! \nWhile there\, mom and dad can wander up to our new Loft on the 2nd floor of the toy store. Once there you will  see  exquisite gifts for that special person in  your life. You’ll find wood bowls\, shimmery glass lamps\, ceramic sculpture\, jewelry and other wonders to the sight and touch. Many of these have been featured in the White House collection of permanent crafts! 20% off all gifts in The Loft during the month of February.
URL:https://www.stowetoys.com/event/valentines-day-is-sweeter-at-the-toy-store-2/
LOCATION:VT
END:VEVENT
END:VCALENDAR