BEGIN:VCALENDAR
VERSION:2.0
PRODID:-//Once Upon A Time Toys - ECPv6.15.17//NONSGML v1.0//EN
CALSCALE:GREGORIAN
METHOD:PUBLISH
X-ORIGINAL-URL:https://www.stowetoys.com
X-WR-CALDESC:Events for Once Upon A Time Toys
REFRESH-INTERVAL;VALUE=DURATION:PT1H
X-Robots-Tag:noindex
X-PUBLISHED-TTL:PT1H
BEGIN:VTIMEZONE
TZID:America/New_York
BEGIN:DAYLIGHT
TZOFFSETFROM:-0500
TZOFFSETTO:-0400
TZNAME:EDT
DTSTART:20210314T070000
END:DAYLIGHT
BEGIN:STANDARD
TZOFFSETFROM:-0400
TZOFFSETTO:-0500
TZNAME:EST
DTSTART:20211107T060000
END:STANDARD
BEGIN:DAYLIGHT
TZOFFSETFROM:-0500
TZOFFSETTO:-0400
TZNAME:EDT
DTSTART:20220313T070000
END:DAYLIGHT
BEGIN:STANDARD
TZOFFSETFROM:-0400
TZOFFSETTO:-0500
TZNAME:EST
DTSTART:20221106T060000
END:STANDARD
BEGIN:DAYLIGHT
TZOFFSETFROM:-0500
TZOFFSETTO:-0400
TZNAME:EDT
DTSTART:20230312T070000
END:DAYLIGHT
BEGIN:STANDARD
TZOFFSETFROM:-0400
TZOFFSETTO:-0500
TZNAME:EST
DTSTART:20231105T060000
END:STANDARD
END:VTIMEZONE
BEGIN:VEVENT
DTSTART;TZID=America/New_York:20221029T160000
DTEND;TZID=America/New_York:20221029T180000
DTSTAMP:20260423T194957
CREATED:20221027T232412Z
LAST-MODIFIED:20221028T013929Z
UID:2167-1667059200-1667066400@www.stowetoys.com
SUMMARY:A Halloween Toy Haunting at Once Upon a Time Toys
DESCRIPTION:Double\, double\, toys and trouble: We’re turning our toy store into a haunted toy store the weekend before Halloween. There will be ghosts and ghoulies and witches of all shapes and sizes. Come dip your fingers into our infamous witches’ brew and find treats—or maybe tricks. Let Madame Esmeralda\, our own gypsy fortune teller\, tell your fortune. Prizes for the scariest costume\, the funniest costume and the most creative costume. FREE \nSaturday(10/29) and Sunday (10/30)\, 4:00 pm-6:00 pm
URL:https://www.stowetoys.com/event/a-halloween-toy-haunting-at-once-upon-a-time-toys/
LOCATION:Once Upon A Time Toys\, 57 Mountain Rd.\, Stowe\, VT\, 05672\, United States
CATEGORIES:Store Events
ATTACH;FMTTYPE=image/jpeg:https://www.stowetoys.com/wp-content/uploads/2022/10/skeleton-reading-book.jpg
ORGANIZER;CN="Once Upon a Time Toys":MAILTO:fun@stowetoys.com
END:VEVENT
BEGIN:VEVENT
DTSTART;TZID=America/New_York:20221030T160000
DTEND;TZID=America/New_York:20221030T180000
DTSTAMP:20260423T194957
CREATED:20221027T232552Z
LAST-MODIFIED:20221028T013828Z
UID:2169-1667145600-1667152800@www.stowetoys.com
SUMMARY:A Halloween Toy Haunting at Once Upon a Time Toys
DESCRIPTION:Double\, double\, toys and trouble: We’re turning our toy store into a haunted toy store the weekend before Halloween. There will be ghosts and ghoulies and witches of all shapes and sizes. Come dip your fingers into our infamous witches’ brew and find treats—or maybe tricks. Let Madame Esmeralda\, our own gypsy fortune teller\, tell your fortune. Prizes for the scariest costume\, the funniest costume and the most creative costume. FREE \nSaturday (10/29) and Sunday (10/30)\, 4:00 pm-6:00 pm
URL:https://www.stowetoys.com/event/a-halloween-toy-haunting-at-once-upon-a-time-toys-2/
LOCATION:Once Upon A Time Toys\, 57 Mountain Rd.\, Stowe\, VT\, 05672\, United States
CATEGORIES:Store Events
ATTACH;FMTTYPE=image/jpeg:https://www.stowetoys.com/wp-content/uploads/2022/10/skeleton-reading-book.jpg
ORGANIZER;CN="Once Upon a Time Toys":MAILTO:fun@stowetoys.com
END:VEVENT
END:VCALENDAR